BEGIN:VCALENDAR
VERSION:2.0
PRODID:-//Les Musiciens du Louvre - ECPv4.6.14.1//NONSGML v1.0//EN
CALSCALE:GREGORIAN
METHOD:PUBLISH
X-WR-CALNAME:Les Musiciens du Louvre
X-ORIGINAL-URL:http://www.mdlg.net
X-WR-CALDESC:Events for Les Musiciens du Louvre
BEGIN:VEVENT
DTSTART;TZID=Europe/Paris:20210624T200000
DTEND;TZID=Europe/Paris:20210624T220000
DTSTAMP:20260423T014934
CREATED:20210616T134755Z
LAST-MODIFIED:20210616T134755Z
UID:20544-1624564800-1624572000@www.mdlg.net
SUMMARY:Symphonies de Mozart à Würzburg
DESCRIPTION:
URL:http://www.mdlg.net/event/symphonies-de-mozart-a-wurzburg/
LOCATION:Würzburg\, Allemagne
GEO:49.7913044;9.9533548
CATEGORIES:Grande formation,Saison 2020-2021
END:VEVENT
END:VCALENDAR