BEGIN:VCALENDAR
VERSION:2.0
PRODID:-//Les Musiciens du Louvre - ECPv4.6.14.1//NONSGML v1.0//EN
CALSCALE:GREGORIAN
METHOD:PUBLISH
X-WR-CALNAME:Les Musiciens du Louvre
X-ORIGINAL-URL:http://www.mdlg.net
X-WR-CALDESC:Events for Les Musiciens du Louvre
BEGIN:VEVENT
DTSTART;TZID=Europe/Paris:20210204T193000
DTEND;TZID=Europe/Paris:20210204T210000
DTSTAMP:20260423T065706
CREATED:20201207T154338Z
LAST-MODIFIED:20210122T131211Z
UID:20494-1612467000-1612472400@www.mdlg.net
SUMMARY:Stabat Mater - Pergolesi ANNULÉ COVID
DESCRIPTION:
URL:http://www.mdlg.net/event/stabat-mater-pergolesi/2021-02-04/
LOCATION:4 Rue Paul Claudel\, Grenoble\, 38000\, France
GEO:45.171978;5.732524
X-APPLE-STRUCTURED-LOCATION;VALUE=URI;X-ADDRESS=4 Rue Paul Claudel Grenoble 38000 France;X-APPLE-RADIUS=500;X-TITLE=4 Rue Paul Claudel:geo:5.732524,45.171978
CATEGORIES:Grande formation,Saison 2020-2021
ATTACH;FMTTYPE=image/jpeg:http://www.mdlg.net/wp-content/uploads/2019/05/Francesco-Corti-5-©Maja-Mirocha.jpg
END:VEVENT
END:VCALENDAR