BEGIN:VCALENDAR
VERSION:2.0
PRODID:-//Les Musiciens du Louvre - ECPv4.6.14.1//NONSGML v1.0//EN
CALSCALE:GREGORIAN
METHOD:PUBLISH
X-WR-CALNAME:Les Musiciens du Louvre
X-ORIGINAL-URL:http://www.mdlg.net
X-WR-CALDESC:Events for Les Musiciens du Louvre
BEGIN:VEVENT
DTSTART;TZID=Europe/Paris:20201126T200000
DTEND;TZID=Europe/Paris:20201126T223000
DTSTAMP:20260423T114952
CREATED:20201112T172926Z
LAST-MODIFIED:20201112T172942Z
UID:20477-1606420800-1606429800@www.mdlg.net
SUMMARY:Mitridate (Mozart)
DESCRIPTION:
URL:http://www.mdlg.net/event/mitridate-mozart/
LOCATION:Valencia\, Espagne
CATEGORIES:Grande formation,Saison 2020-2021
ATTACH;FMTTYPE=image/jpeg:http://www.mdlg.net/wp-content/uploads/2020/11/FortressShrine900675.jpg
END:VEVENT
END:VCALENDAR