BEGIN:VCALENDAR
VERSION:2.0
PRODID:-//Les Musiciens du Louvre - ECPv4.6.14.1//NONSGML v1.0//EN
CALSCALE:GREGORIAN
METHOD:PUBLISH
X-WR-CALNAME:Les Musiciens du Louvre
X-ORIGINAL-URL:http://www.mdlg.net
X-WR-CALDESC:Events for Les Musiciens du Louvre
BEGIN:VEVENT
DTSTART;TZID=Europe/Paris:20200604T200000
DTEND;TZID=Europe/Paris:20200604T200000
DTSTAMP:20260423T024547
CREATED:20200123T164221Z
LAST-MODIFIED:20200123T164221Z
UID:20205-1591300800-1591300800@www.mdlg.net
SUMMARY:Bach Cantates et Passions
DESCRIPTION:
URL:http://www.mdlg.net/event/bach-cantates-et-passions/
LOCATION:Groningen\, Pays-Bas
CATEGORIES:2019-2020,Grande formation
ATTACH;FMTTYPE=image/jpeg:http://www.mdlg.net/wp-content/uploads/2020/01/Anne-Sofie-von-Otter-site-©Ewa-Marie-Rundquist.jpg
END:VEVENT
END:VCALENDAR