BEGIN:VCALENDAR
VERSION:2.0
PRODID:-//Les Musiciens du Louvre - ECPv4.6.14.1//NONSGML v1.0//EN
CALSCALE:GREGORIAN
METHOD:PUBLISH
X-WR-CALNAME:Les Musiciens du Louvre
X-ORIGINAL-URL:http://www.mdlg.net
X-WR-CALDESC:Events for Les Musiciens du Louvre
BEGIN:VEVENT
DTSTART;TZID=Europe/Paris:20200409T200000
DTEND;TZID=Europe/Paris:20200409T200000
DTSTAMP:20260423T065443
CREATED:20190820T100550Z
LAST-MODIFIED:20190820T100550Z
UID:19834-1586462400-1586462400@www.mdlg.net
SUMMARY:Le Bourgeois Gentilhomme
DESCRIPTION:
URL:http://www.mdlg.net/event/le-bourgeois-gentilhomme-20/
LOCATION:67 Place Président Mitterand\, Chambéry\, 73000\, France
CATEGORIES:2019-2020,Grande formation
ATTACH;FMTTYPE=image/jpeg:http://www.mdlg.net/wp-content/uploads/2019/05/visuel-Le_bourgeois_gentilhomme_300_A3_rose_réduit.jpg
END:VEVENT
END:VCALENDAR