BEGIN:VCALENDAR
VERSION:2.0
PRODID:-//Les Musiciens du Louvre - ECPv4.6.14.1//NONSGML v1.0//EN
CALSCALE:GREGORIAN
METHOD:PUBLISH
X-WR-CALNAME:Les Musiciens du Louvre
X-ORIGINAL-URL:http://www.mdlg.net
X-WR-CALDESC:Events for Les Musiciens du Louvre
BEGIN:VEVENT
DTSTART;TZID=Europe/Paris:20200308T114500
DTEND;TZID=Europe/Paris:20200308T123000
DTSTAMP:20260423T065559
CREATED:20200123T154651Z
LAST-MODIFIED:20200210T160424Z
UID:20195-1583667900-1583670600@www.mdlg.net
SUMMARY:La France Intime
DESCRIPTION:
URL:http://www.mdlg.net/event/la-france-intime/
LOCATION:Abandoibarra Etorb.\, 4\,\, Bilao\, 48011\, Espagne
CATEGORIES:2019-2020,Petite formation
ATTACH;FMTTYPE=image/jpeg:http://www.mdlg.net/wp-content/uploads/2019/11/Pablo-Gutiérrez-Ruiz-©-Sarah-Bouasse-réduite.jpg
END:VEVENT
BEGIN:VEVENT
DTSTART;TZID=Europe/Paris:20200308T184500
DTEND;TZID=Europe/Paris:20200308T201500
DTSTAMP:20260423T065559
CREATED:20200123T153529Z
LAST-MODIFIED:20200210T160801Z
UID:20191-1583693100-1583698500@www.mdlg.net
SUMMARY:Florilège Offenbach
DESCRIPTION:
URL:http://www.mdlg.net/event/florilege-offenbach/2020-03-08/
LOCATION:Abandoibarra Etorb.\, 4\,\, Bilao\, 48011\, Espagne
CATEGORIES:2019-2020,Grande formation
ATTACH;FMTTYPE=image/jpeg:http://www.mdlg.net/wp-content/uploads/2020/01/Offenbach.jpg
END:VEVENT
END:VCALENDAR