BEGIN:VCALENDAR
VERSION:2.0
PRODID:-//Les Musiciens du Louvre - ECPv4.6.14.1//NONSGML v1.0//EN
CALSCALE:GREGORIAN
METHOD:PUBLISH
X-WR-CALNAME:Les Musiciens du Louvre
X-ORIGINAL-URL:http://www.mdlg.net
X-WR-CALDESC:Events for Les Musiciens du Louvre
BEGIN:VEVENT
DTSTART;TZID=Europe/Paris:20200126T200000
DTEND;TZID=Europe/Paris:20200126T200000
DTSTAMP:20260423T095208
CREATED:20190820T083740Z
LAST-MODIFIED:20190820T083740Z
UID:19809-1580068800-1580068800@www.mdlg.net
SUMMARY:Le Messie
DESCRIPTION:
URL:http://www.mdlg.net/event/le-messie-2/
LOCATION:Hofstallgasse 1\, Salzbourg\, 5020\, Autriche
CATEGORIES:2019-2020,Grande formation
ATTACH;FMTTYPE=image/jpeg:http://www.mdlg.net/wp-content/uploads/2019/06/WiebkeLehmkuhl_09423_cSoundPictureDesign_réduit.jpg
END:VEVENT
END:VCALENDAR