BEGIN:VCALENDAR
VERSION:2.0
PRODID:-//Les Musiciens du Louvre - ECPv4.6.14.1//NONSGML v1.0//EN
CALSCALE:GREGORIAN
METHOD:PUBLISH
X-WR-CALNAME:Les Musiciens du Louvre
X-ORIGINAL-URL:http://www.mdlg.net
X-WR-CALDESC:Events for Les Musiciens du Louvre
BEGIN:VEVENT
DTSTART;TZID=Europe/Paris:20190422T190000
DTEND;TZID=Europe/Paris:20190422T190000
DTSTAMP:20260421T092737
CREATED:20180213T112054Z
LAST-MODIFIED:20180618T145752Z
UID:17757-1555959600-1555959600@www.mdlg.net
SUMMARY:Symphonie imaginaire
DESCRIPTION:
URL:http://www.mdlg.net/event/symphonie-imaginaire-dresden/
LOCATION:Theaterplatz 2\, Dresden\, 01067\, Allemagne
GEO:51.053158;13.7357255
X-APPLE-STRUCTURED-LOCATION;VALUE=URI;X-ADDRESS=Theaterplatz 2 Dresden 01067 Allemagne;X-APPLE-RADIUS=500;X-TITLE=Theaterplatz 2:geo:13.7357255,51.053158
CATEGORIES:2018-2019,Grande formation
ATTACH;FMTTYPE=image/jpeg:http://www.mdlg.net/wp-content/uploads/2017/04/Rameau-Symphonie-Imaginaire.jpg
END:VEVENT
END:VCALENDAR