BEGIN:VCALENDAR
VERSION:2.0
PRODID:-//Les Musiciens du Louvre - ECPv4.6.14.1//NONSGML v1.0//EN
CALSCALE:GREGORIAN
METHOD:PUBLISH
X-WR-CALNAME:Les Musiciens du Louvre
X-ORIGINAL-URL:http://www.mdlg.net
X-WR-CALDESC:Events for Les Musiciens du Louvre
BEGIN:VEVENT
DTSTART;TZID=Europe/Paris:20190409T200000
DTEND;TZID=Europe/Paris:20190409T200000
DTSTAMP:20260422T111211
CREATED:20180213T131458Z
LAST-MODIFIED:20180712T140852Z
UID:17756-1554840000-1554840000@www.mdlg.net
SUMMARY:Airs pour Farinelli
DESCRIPTION:
URL:http://www.mdlg.net/event/airs-pour-farinelli/
LOCATION:Calle de Jovellanos\, 4\,\, Madrid\, 28014\, Espagne
GEO:40.4171965;-3.6968562
X-APPLE-STRUCTURED-LOCATION;VALUE=URI;X-ADDRESS=Calle de Jovellanos 4 Madrid 28014 Espagne;X-APPLE-RADIUS=500;X-TITLE=Calle de Jovellanos\, 4\,:geo:-3.6968562,40.4171965
CATEGORIES:2018-2019,Grande formation
ATTACH;FMTTYPE=image/jpeg:http://www.mdlg.net/wp-content/uploads/2018/02/Airs-pour-Farinelli.jpg
END:VEVENT
END:VCALENDAR