BEGIN:VCALENDAR
VERSION:2.0
PRODID:-//Les Musiciens du Louvre - ECPv4.6.14.1//NONSGML v1.0//EN
CALSCALE:GREGORIAN
METHOD:PUBLISH
X-WR-CALNAME:Les Musiciens du Louvre
X-ORIGINAL-URL:http://www.mdlg.net
X-WR-CALDESC:Events for Les Musiciens du Louvre
BEGIN:VEVENT
DTSTART;TZID=Europe/Paris:20200110T193000
DTEND;TZID=Europe/Paris:20200110T193000
DTSTAMP:20260423T094621
CREATED:20190820T082419Z
LAST-MODIFIED:20190820T082419Z
UID:19805-1578684600-1578684600@www.mdlg.net
SUMMARY:Porpora vs Handel
DESCRIPTION:
URL:http://www.mdlg.net/event/porpora-vs-handel-4/
LOCATION:Old Theatre Street\, Il-Belt Valletta\, La Vallette\, Malta
CATEGORIES:2019-2020,Grande formation
ATTACH;FMTTYPE=image/jpeg:http://www.mdlg.net/wp-content/uploads/2019/05/Vivica-Genaux_Press-Photo_2016_017_Credit_RibaltaLuce-Studio_réduit.jpg
END:VEVENT
END:VCALENDAR