BEGIN:VCALENDAR
VERSION:2.0
PRODID:-//Les Musiciens du Louvre - ECPv4.6.14.1//NONSGML v1.0//EN
CALSCALE:GREGORIAN
METHOD:PUBLISH
X-WR-CALNAME:Les Musiciens du Louvre
X-ORIGINAL-URL:http://www.mdlg.net
X-WR-CALDESC:Events for Les Musiciens du Louvre
BEGIN:VEVENT
DTSTART;TZID=Europe/Paris:20201018T110000
DTEND;TZID=Europe/Paris:20201018T193000
DTSTAMP:20260423T163126
CREATED:20200831T105555Z
LAST-MODIFIED:20200831T105714Z
UID:20421-1603018800-1603049400@www.mdlg.net
SUMMARY:LE VIOLON DE MOZART
DESCRIPTION:
URL:http://www.mdlg.net/event/le-violon-de-mozart-2/
CATEGORIES:Saison 2020-2021
ATTACH;FMTTYPE=image/jpeg:http://www.mdlg.net/wp-content/uploads/2020/07/KonczChristoph_489_Klotz_Mozart_Violine_900675-byPedroRodriguez.jpg
END:VEVENT
END:VCALENDAR